BEGIN:VCALENDAR
VERSION:2.0
PRODID:icalendar-ruby
CALSCALE:GREGORIAN
METHOD:PUBLISH
BEGIN:VEVENT
DTSTAMP:20260420T160813Z
UID:29-3697286@cmcracine.org
DTSTART:20261030T140000Z
DTEND:20261030T161500Z
CLASS:PUBLIC
CREATED:20260420T104921
DESCRIPTION:
LAST-MODIFIED:20260420T104921
LOCATION:
SUMMARY:Men's Fellowship
URL;VALUE=URI:https://cmcracine.org/events/mens-fellowship/2026-10-30
END:VEVENT
END:VCALENDAR
