BEGIN:VCALENDAR
VERSION:2.0
PRODID:icalendar-ruby
CALSCALE:GREGORIAN
METHOD:PUBLISH
BEGIN:VEVENT
DTSTAMP:20260420T124928Z
UID:29-3693438@cmcracine.org
DTSTART:20261016T140000Z
DTEND:20261016T161500Z
CLASS:PUBLIC
CREATED:20260420T053954
DESCRIPTION:
LAST-MODIFIED:20260420T053954
LOCATION:
SUMMARY:Men's Fellowship
URL;VALUE=URI:https://cmcracine.org/events/mens-fellowship/2026-10-16
END:VEVENT
END:VCALENDAR
