BEGIN:VCALENDAR
VERSION:2.0
PRODID:icalendar-ruby
CALSCALE:GREGORIAN
METHOD:PUBLISH
BEGIN:VEVENT
DTSTAMP:20260420T011834Z
UID:42-2081715@cmcracine.org
DTSTART:20230105T001500Z
DTEND:20230105T020000Z
CLASS:PUBLIC
CREATED:20250908T145557
DESCRIPTION:
LAST-MODIFIED:20250908T145557
LOCATION:
SUMMARY:Awana
URL;VALUE=URI:https://cmcracine.org/events/awana--42/2023-01-04
END:VEVENT
END:VCALENDAR
