BEGIN:VCALENDAR
VERSION:2.0
PRODID:icalendar-ruby
CALSCALE:GREGORIAN
METHOD:PUBLISH
BEGIN:VEVENT
DTSTAMP:20260419T214259Z
UID:42-2081713@cmcracine.org
DTSTART:20221215T001500Z
DTEND:20221215T020000Z
CLASS:PUBLIC
CREATED:20250908T145557
DESCRIPTION:
LAST-MODIFIED:20250908T145557
LOCATION:
SUMMARY:Awana
URL;VALUE=URI:https://cmcracine.org/events/awana--42/2022-12-14
END:VEVENT
END:VCALENDAR
